BEGIN:VCALENDAR
VERSION:2.0
PRODID:-//Maitripa College - ECPv6.15.15//NONSGML v1.0//EN
CALSCALE:GREGORIAN
METHOD:PUBLISH
X-ORIGINAL-URL:https://maitripa.org
X-WR-CALDESC:Events for Maitripa College
REFRESH-INTERVAL;VALUE=DURATION:PT1H
X-Robots-Tag:noindex
X-PUBLISHED-TTL:PT1H
BEGIN:VTIMEZONE
TZID:America/Los_Angeles
BEGIN:DAYLIGHT
TZOFFSETFROM:-0800
TZOFFSETTO:-0700
TZNAME:PDT
DTSTART:20230312T100000
END:DAYLIGHT
BEGIN:STANDARD
TZOFFSETFROM:-0700
TZOFFSETTO:-0800
TZNAME:PST
DTSTART:20231105T090000
END:STANDARD
BEGIN:DAYLIGHT
TZOFFSETFROM:-0800
TZOFFSETTO:-0700
TZNAME:PDT
DTSTART:20240310T100000
END:DAYLIGHT
BEGIN:STANDARD
TZOFFSETFROM:-0700
TZOFFSETTO:-0800
TZNAME:PST
DTSTART:20241103T090000
END:STANDARD
BEGIN:DAYLIGHT
TZOFFSETFROM:-0800
TZOFFSETTO:-0700
TZNAME:PDT
DTSTART:20250309T100000
END:DAYLIGHT
BEGIN:STANDARD
TZOFFSETFROM:-0700
TZOFFSETTO:-0800
TZNAME:PST
DTSTART:20251102T090000
END:STANDARD
END:VTIMEZONE
BEGIN:VEVENT
DTSTART;TZID=America/Los_Angeles:20240909T100000
DTEND;TZID=America/Los_Angeles:20240909T120000
DTSTAMP:20260423T032555
CREATED:20260408T212326Z
LAST-MODIFIED:20260408T212326Z
UID:10007989-1725876000-1725883200@maitripa.org
SUMMARY:TIB201 Classical Tibetan Language Intermediate I
DESCRIPTION:10:00 am-12:00 p\nTIB201 Classical Tibetan Language Intermediate I \nclick here for details on this and all Fall courses
URL:https://maitripa.org/events/tib201-classical-tibetan-language-intermediate-i-281/
LOCATION:Maitripa College\, 1119 SE Market St.\, Portland\, OR\, 97214\, United States
CATEGORIES:Academic Calendar & Courses
GEO:45.5109162;-122.6543674
X-APPLE-STRUCTURED-LOCATION;VALUE=URI;X-ADDRESS=Maitripa College 1119 SE Market St. Portland OR 97214 United States;X-APPLE-RADIUS=500;X-TITLE=1119 SE Market St.:geo:-122.6543674,45.5109162
END:VEVENT
BEGIN:VEVENT
DTSTART;TZID=America/Los_Angeles:20240909T100000
DTEND;TZID=America/Los_Angeles:20240909T120000
DTSTAMP:20260423T032555
CREATED:20260409T092335Z
LAST-MODIFIED:20260409T092335Z
UID:10007990-1725876000-1725883200@maitripa.org
SUMMARY:TIB201 Classical Tibetan Language Intermediate I
DESCRIPTION:10:00 am-12:00 p\nTIB201 Classical Tibetan Language Intermediate I \nclick here for details on this and all Fall courses
URL:https://maitripa.org/events/tib201-classical-tibetan-language-intermediate-i-282/
LOCATION:Maitripa College\, 1119 SE Market St.\, Portland\, OR\, 97214\, United States
CATEGORIES:Academic Calendar & Courses
GEO:45.5109162;-122.6543674
X-APPLE-STRUCTURED-LOCATION;VALUE=URI;X-ADDRESS=Maitripa College 1119 SE Market St. Portland OR 97214 United States;X-APPLE-RADIUS=500;X-TITLE=1119 SE Market St.:geo:-122.6543674,45.5109162
END:VEVENT
BEGIN:VEVENT
DTSTART;TZID=America/Los_Angeles:20240909T100000
DTEND;TZID=America/Los_Angeles:20240909T120000
DTSTAMP:20260423T032555
CREATED:20260409T212319Z
LAST-MODIFIED:20260409T212319Z
UID:10007991-1725876000-1725883200@maitripa.org
SUMMARY:TIB201 Classical Tibetan Language Intermediate I
DESCRIPTION:10:00 am-12:00 p\nTIB201 Classical Tibetan Language Intermediate I \nclick here for details on this and all Fall courses
URL:https://maitripa.org/events/tib201-classical-tibetan-language-intermediate-i-283/
LOCATION:Maitripa College\, 1119 SE Market St.\, Portland\, OR\, 97214\, United States
CATEGORIES:Academic Calendar & Courses
GEO:45.5109162;-122.6543674
X-APPLE-STRUCTURED-LOCATION;VALUE=URI;X-ADDRESS=Maitripa College 1119 SE Market St. Portland OR 97214 United States;X-APPLE-RADIUS=500;X-TITLE=1119 SE Market St.:geo:-122.6543674,45.5109162
END:VEVENT
BEGIN:VEVENT
DTSTART;TZID=America/Los_Angeles:20240909T100000
DTEND;TZID=America/Los_Angeles:20240909T120000
DTSTAMP:20260423T032555
CREATED:20260410T092328Z
LAST-MODIFIED:20260410T092328Z
UID:10007992-1725876000-1725883200@maitripa.org
SUMMARY:TIB201 Classical Tibetan Language Intermediate I
DESCRIPTION:10:00 am-12:00 p\nTIB201 Classical Tibetan Language Intermediate I \nclick here for details on this and all Fall courses
URL:https://maitripa.org/events/tib201-classical-tibetan-language-intermediate-i-284/
LOCATION:Maitripa College\, 1119 SE Market St.\, Portland\, OR\, 97214\, United States
CATEGORIES:Academic Calendar & Courses
GEO:45.5109162;-122.6543674
X-APPLE-STRUCTURED-LOCATION;VALUE=URI;X-ADDRESS=Maitripa College 1119 SE Market St. Portland OR 97214 United States;X-APPLE-RADIUS=500;X-TITLE=1119 SE Market St.:geo:-122.6543674,45.5109162
END:VEVENT
BEGIN:VEVENT
DTSTART;TZID=America/Los_Angeles:20240909T100000
DTEND;TZID=America/Los_Angeles:20240909T120000
DTSTAMP:20260423T032555
CREATED:20260410T212338Z
LAST-MODIFIED:20260410T212338Z
UID:10007993-1725876000-1725883200@maitripa.org
SUMMARY:TIB201 Classical Tibetan Language Intermediate I
DESCRIPTION:10:00 am-12:00 p\nTIB201 Classical Tibetan Language Intermediate I \nclick here for details on this and all Fall courses
URL:https://maitripa.org/events/tib201-classical-tibetan-language-intermediate-i-285/
LOCATION:Maitripa College\, 1119 SE Market St.\, Portland\, OR\, 97214\, United States
CATEGORIES:Academic Calendar & Courses
GEO:45.5109162;-122.6543674
X-APPLE-STRUCTURED-LOCATION;VALUE=URI;X-ADDRESS=Maitripa College 1119 SE Market St. Portland OR 97214 United States;X-APPLE-RADIUS=500;X-TITLE=1119 SE Market St.:geo:-122.6543674,45.5109162
END:VEVENT
BEGIN:VEVENT
DTSTART;TZID=America/Los_Angeles:20240909T100000
DTEND;TZID=America/Los_Angeles:20240909T120000
DTSTAMP:20260423T032555
CREATED:20260411T092357Z
LAST-MODIFIED:20260411T092357Z
UID:10007994-1725876000-1725883200@maitripa.org
SUMMARY:TIB201 Classical Tibetan Language Intermediate I
DESCRIPTION:10:00 am-12:00 p\nTIB201 Classical Tibetan Language Intermediate I \nclick here for details on this and all Fall courses
URL:https://maitripa.org/events/tib201-classical-tibetan-language-intermediate-i-286/
LOCATION:Maitripa College\, 1119 SE Market St.\, Portland\, OR\, 97214\, United States
CATEGORIES:Academic Calendar & Courses
GEO:45.5109162;-122.6543674
X-APPLE-STRUCTURED-LOCATION;VALUE=URI;X-ADDRESS=Maitripa College 1119 SE Market St. Portland OR 97214 United States;X-APPLE-RADIUS=500;X-TITLE=1119 SE Market St.:geo:-122.6543674,45.5109162
END:VEVENT
BEGIN:VEVENT
DTSTART;TZID=America/Los_Angeles:20240909T100000
DTEND;TZID=America/Los_Angeles:20240909T120000
DTSTAMP:20260423T032555
CREATED:20260411T212320Z
LAST-MODIFIED:20260411T212320Z
UID:10007995-1725876000-1725883200@maitripa.org
SUMMARY:TIB201 Classical Tibetan Language Intermediate I
DESCRIPTION:10:00 am-12:00 p\nTIB201 Classical Tibetan Language Intermediate I \nclick here for details on this and all Fall courses
URL:https://maitripa.org/events/tib201-classical-tibetan-language-intermediate-i-287/
LOCATION:Maitripa College\, 1119 SE Market St.\, Portland\, OR\, 97214\, United States
CATEGORIES:Academic Calendar & Courses
GEO:45.5109162;-122.6543674
X-APPLE-STRUCTURED-LOCATION;VALUE=URI;X-ADDRESS=Maitripa College 1119 SE Market St. Portland OR 97214 United States;X-APPLE-RADIUS=500;X-TITLE=1119 SE Market St.:geo:-122.6543674,45.5109162
END:VEVENT
BEGIN:VEVENT
DTSTART;TZID=America/Los_Angeles:20240909T100000
DTEND;TZID=America/Los_Angeles:20240909T120000
DTSTAMP:20260423T032555
CREATED:20260412T092409Z
LAST-MODIFIED:20260412T092409Z
UID:10007996-1725876000-1725883200@maitripa.org
SUMMARY:TIB201 Classical Tibetan Language Intermediate I
DESCRIPTION:10:00 am-12:00 p\nTIB201 Classical Tibetan Language Intermediate I \nclick here for details on this and all Fall courses
URL:https://maitripa.org/events/tib201-classical-tibetan-language-intermediate-i-288/
LOCATION:Maitripa College\, 1119 SE Market St.\, Portland\, OR\, 97214\, United States
CATEGORIES:Academic Calendar & Courses
GEO:45.5109162;-122.6543674
X-APPLE-STRUCTURED-LOCATION;VALUE=URI;X-ADDRESS=Maitripa College 1119 SE Market St. Portland OR 97214 United States;X-APPLE-RADIUS=500;X-TITLE=1119 SE Market St.:geo:-122.6543674,45.5109162
END:VEVENT
BEGIN:VEVENT
DTSTART;TZID=America/Los_Angeles:20240909T100000
DTEND;TZID=America/Los_Angeles:20240909T120000
DTSTAMP:20260423T032555
CREATED:20260412T212326Z
LAST-MODIFIED:20260412T212326Z
UID:10007997-1725876000-1725883200@maitripa.org
SUMMARY:TIB201 Classical Tibetan Language Intermediate I
DESCRIPTION:10:00 am-12:00 p\nTIB201 Classical Tibetan Language Intermediate I \nclick here for details on this and all Fall courses
URL:https://maitripa.org/events/tib201-classical-tibetan-language-intermediate-i-289/
LOCATION:Maitripa College\, 1119 SE Market St.\, Portland\, OR\, 97214\, United States
CATEGORIES:Academic Calendar & Courses
GEO:45.5109162;-122.6543674
X-APPLE-STRUCTURED-LOCATION;VALUE=URI;X-ADDRESS=Maitripa College 1119 SE Market St. Portland OR 97214 United States;X-APPLE-RADIUS=500;X-TITLE=1119 SE Market St.:geo:-122.6543674,45.5109162
END:VEVENT
BEGIN:VEVENT
DTSTART;TZID=America/Los_Angeles:20240909T100000
DTEND;TZID=America/Los_Angeles:20240909T120000
DTSTAMP:20260423T032555
CREATED:20260413T092321Z
LAST-MODIFIED:20260413T092321Z
UID:10007998-1725876000-1725883200@maitripa.org
SUMMARY:TIB201 Classical Tibetan Language Intermediate I
DESCRIPTION:10:00 am-12:00 p\nTIB201 Classical Tibetan Language Intermediate I \nclick here for details on this and all Fall courses
URL:https://maitripa.org/events/tib201-classical-tibetan-language-intermediate-i-290/
LOCATION:Maitripa College\, 1119 SE Market St.\, Portland\, OR\, 97214\, United States
CATEGORIES:Academic Calendar & Courses
GEO:45.5109162;-122.6543674
X-APPLE-STRUCTURED-LOCATION;VALUE=URI;X-ADDRESS=Maitripa College 1119 SE Market St. Portland OR 97214 United States;X-APPLE-RADIUS=500;X-TITLE=1119 SE Market St.:geo:-122.6543674,45.5109162
END:VEVENT
BEGIN:VEVENT
DTSTART;TZID=America/Los_Angeles:20240909T100000
DTEND;TZID=America/Los_Angeles:20240909T120000
DTSTAMP:20260423T032555
CREATED:20260413T212322Z
LAST-MODIFIED:20260413T212322Z
UID:10007999-1725876000-1725883200@maitripa.org
SUMMARY:TIB201 Classical Tibetan Language Intermediate I
DESCRIPTION:10:00 am-12:00 p\nTIB201 Classical Tibetan Language Intermediate I \nclick here for details on this and all Fall courses
URL:https://maitripa.org/events/tib201-classical-tibetan-language-intermediate-i-291/
LOCATION:Maitripa College\, 1119 SE Market St.\, Portland\, OR\, 97214\, United States
CATEGORIES:Academic Calendar & Courses
GEO:45.5109162;-122.6543674
X-APPLE-STRUCTURED-LOCATION;VALUE=URI;X-ADDRESS=Maitripa College 1119 SE Market St. Portland OR 97214 United States;X-APPLE-RADIUS=500;X-TITLE=1119 SE Market St.:geo:-122.6543674,45.5109162
END:VEVENT
BEGIN:VEVENT
DTSTART;TZID=America/Los_Angeles:20240909T100000
DTEND;TZID=America/Los_Angeles:20240909T120000
DTSTAMP:20260423T032555
CREATED:20260414T092457Z
LAST-MODIFIED:20260414T092457Z
UID:10008000-1725876000-1725883200@maitripa.org
SUMMARY:TIB201 Classical Tibetan Language Intermediate I
DESCRIPTION:10:00 am-12:00 p\nTIB201 Classical Tibetan Language Intermediate I \nclick here for details on this and all Fall courses
URL:https://maitripa.org/events/tib201-classical-tibetan-language-intermediate-i-292/
LOCATION:Maitripa College\, 1119 SE Market St.\, Portland\, OR\, 97214\, United States
CATEGORIES:Academic Calendar & Courses
GEO:45.5109162;-122.6543674
X-APPLE-STRUCTURED-LOCATION;VALUE=URI;X-ADDRESS=Maitripa College 1119 SE Market St. Portland OR 97214 United States;X-APPLE-RADIUS=500;X-TITLE=1119 SE Market St.:geo:-122.6543674,45.5109162
END:VEVENT
BEGIN:VEVENT
DTSTART;TZID=America/Los_Angeles:20240909T100000
DTEND;TZID=America/Los_Angeles:20240909T120000
DTSTAMP:20260423T032555
CREATED:20260414T212322Z
LAST-MODIFIED:20260414T212322Z
UID:10008001-1725876000-1725883200@maitripa.org
SUMMARY:TIB201 Classical Tibetan Language Intermediate I
DESCRIPTION:10:00 am-12:00 p\nTIB201 Classical Tibetan Language Intermediate I \nclick here for details on this and all Fall courses
URL:https://maitripa.org/events/tib201-classical-tibetan-language-intermediate-i-293/
LOCATION:Maitripa College\, 1119 SE Market St.\, Portland\, OR\, 97214\, United States
CATEGORIES:Academic Calendar & Courses
GEO:45.5109162;-122.6543674
X-APPLE-STRUCTURED-LOCATION;VALUE=URI;X-ADDRESS=Maitripa College 1119 SE Market St. Portland OR 97214 United States;X-APPLE-RADIUS=500;X-TITLE=1119 SE Market St.:geo:-122.6543674,45.5109162
END:VEVENT
BEGIN:VEVENT
DTSTART;TZID=America/Los_Angeles:20240909T100000
DTEND;TZID=America/Los_Angeles:20240909T120000
DTSTAMP:20260423T032555
CREATED:20260415T092317Z
LAST-MODIFIED:20260415T092317Z
UID:10008002-1725876000-1725883200@maitripa.org
SUMMARY:TIB201 Classical Tibetan Language Intermediate I
DESCRIPTION:10:00 am-12:00 p\nTIB201 Classical Tibetan Language Intermediate I \nclick here for details on this and all Fall courses
URL:https://maitripa.org/events/tib201-classical-tibetan-language-intermediate-i-294/
LOCATION:Maitripa College\, 1119 SE Market St.\, Portland\, OR\, 97214\, United States
CATEGORIES:Academic Calendar & Courses
GEO:45.5109162;-122.6543674
X-APPLE-STRUCTURED-LOCATION;VALUE=URI;X-ADDRESS=Maitripa College 1119 SE Market St. Portland OR 97214 United States;X-APPLE-RADIUS=500;X-TITLE=1119 SE Market St.:geo:-122.6543674,45.5109162
END:VEVENT
BEGIN:VEVENT
DTSTART;TZID=America/Los_Angeles:20240909T100000
DTEND;TZID=America/Los_Angeles:20240909T120000
DTSTAMP:20260423T032555
CREATED:20260415T212344Z
LAST-MODIFIED:20260415T212344Z
UID:10008003-1725876000-1725883200@maitripa.org
SUMMARY:TIB201 Classical Tibetan Language Intermediate I
DESCRIPTION:10:00 am-12:00 p\nTIB201 Classical Tibetan Language Intermediate I \nclick here for details on this and all Fall courses
URL:https://maitripa.org/events/tib201-classical-tibetan-language-intermediate-i-295/
LOCATION:Maitripa College\, 1119 SE Market St.\, Portland\, OR\, 97214\, United States
CATEGORIES:Academic Calendar & Courses
GEO:45.5109162;-122.6543674
X-APPLE-STRUCTURED-LOCATION;VALUE=URI;X-ADDRESS=Maitripa College 1119 SE Market St. Portland OR 97214 United States;X-APPLE-RADIUS=500;X-TITLE=1119 SE Market St.:geo:-122.6543674,45.5109162
END:VEVENT
BEGIN:VEVENT
DTSTART;TZID=America/Los_Angeles:20240909T100000
DTEND;TZID=America/Los_Angeles:20240909T120000
DTSTAMP:20260423T032555
CREATED:20260416T092331Z
LAST-MODIFIED:20260416T092331Z
UID:10008004-1725876000-1725883200@maitripa.org
SUMMARY:TIB201 Classical Tibetan Language Intermediate I
DESCRIPTION:10:00 am-12:00 p\nTIB201 Classical Tibetan Language Intermediate I \nclick here for details on this and all Fall courses
URL:https://maitripa.org/events/tib201-classical-tibetan-language-intermediate-i-296/
LOCATION:Maitripa College\, 1119 SE Market St.\, Portland\, OR\, 97214\, United States
CATEGORIES:Academic Calendar & Courses
GEO:45.5109162;-122.6543674
X-APPLE-STRUCTURED-LOCATION;VALUE=URI;X-ADDRESS=Maitripa College 1119 SE Market St. Portland OR 97214 United States;X-APPLE-RADIUS=500;X-TITLE=1119 SE Market St.:geo:-122.6543674,45.5109162
END:VEVENT
BEGIN:VEVENT
DTSTART;TZID=America/Los_Angeles:20240909T100000
DTEND;TZID=America/Los_Angeles:20240909T120000
DTSTAMP:20260423T032555
CREATED:20260416T212326Z
LAST-MODIFIED:20260416T212326Z
UID:10008005-1725876000-1725883200@maitripa.org
SUMMARY:TIB201 Classical Tibetan Language Intermediate I
DESCRIPTION:10:00 am-12:00 p\nTIB201 Classical Tibetan Language Intermediate I \nclick here for details on this and all Fall courses
URL:https://maitripa.org/events/tib201-classical-tibetan-language-intermediate-i-297/
LOCATION:Maitripa College\, 1119 SE Market St.\, Portland\, OR\, 97214\, United States
CATEGORIES:Academic Calendar & Courses
GEO:45.5109162;-122.6543674
X-APPLE-STRUCTURED-LOCATION;VALUE=URI;X-ADDRESS=Maitripa College 1119 SE Market St. Portland OR 97214 United States;X-APPLE-RADIUS=500;X-TITLE=1119 SE Market St.:geo:-122.6543674,45.5109162
END:VEVENT
BEGIN:VEVENT
DTSTART;TZID=America/Los_Angeles:20240909T100000
DTEND;TZID=America/Los_Angeles:20240909T120000
DTSTAMP:20260423T032555
CREATED:20260417T092325Z
LAST-MODIFIED:20260417T092325Z
UID:10008006-1725876000-1725883200@maitripa.org
SUMMARY:TIB201 Classical Tibetan Language Intermediate I
DESCRIPTION:10:00 am-12:00 p\nTIB201 Classical Tibetan Language Intermediate I \nclick here for details on this and all Fall courses
URL:https://maitripa.org/events/tib201-classical-tibetan-language-intermediate-i-298/
LOCATION:Maitripa College\, 1119 SE Market St.\, Portland\, OR\, 97214\, United States
CATEGORIES:Academic Calendar & Courses
GEO:45.5109162;-122.6543674
X-APPLE-STRUCTURED-LOCATION;VALUE=URI;X-ADDRESS=Maitripa College 1119 SE Market St. Portland OR 97214 United States;X-APPLE-RADIUS=500;X-TITLE=1119 SE Market St.:geo:-122.6543674,45.5109162
END:VEVENT
BEGIN:VEVENT
DTSTART;TZID=America/Los_Angeles:20240909T100000
DTEND;TZID=America/Los_Angeles:20240909T120000
DTSTAMP:20260423T032555
CREATED:20260417T212324Z
LAST-MODIFIED:20260417T212324Z
UID:10008007-1725876000-1725883200@maitripa.org
SUMMARY:TIB201 Classical Tibetan Language Intermediate I
DESCRIPTION:10:00 am-12:00 p\nTIB201 Classical Tibetan Language Intermediate I \nclick here for details on this and all Fall courses
URL:https://maitripa.org/events/tib201-classical-tibetan-language-intermediate-i-299/
LOCATION:Maitripa College\, 1119 SE Market St.\, Portland\, OR\, 97214\, United States
CATEGORIES:Academic Calendar & Courses
GEO:45.5109162;-122.6543674
X-APPLE-STRUCTURED-LOCATION;VALUE=URI;X-ADDRESS=Maitripa College 1119 SE Market St. Portland OR 97214 United States;X-APPLE-RADIUS=500;X-TITLE=1119 SE Market St.:geo:-122.6543674,45.5109162
END:VEVENT
BEGIN:VEVENT
DTSTART;TZID=America/Los_Angeles:20240909T100000
DTEND;TZID=America/Los_Angeles:20240909T120000
DTSTAMP:20260423T032555
CREATED:20260418T092318Z
LAST-MODIFIED:20260418T092318Z
UID:10008008-1725876000-1725883200@maitripa.org
SUMMARY:TIB201 Classical Tibetan Language Intermediate I
DESCRIPTION:10:00 am-12:00 p\nTIB201 Classical Tibetan Language Intermediate I \nclick here for details on this and all Fall courses
URL:https://maitripa.org/events/tib201-classical-tibetan-language-intermediate-i-300/
LOCATION:Maitripa College\, 1119 SE Market St.\, Portland\, OR\, 97214\, United States
CATEGORIES:Academic Calendar & Courses
GEO:45.5109162;-122.6543674
X-APPLE-STRUCTURED-LOCATION;VALUE=URI;X-ADDRESS=Maitripa College 1119 SE Market St. Portland OR 97214 United States;X-APPLE-RADIUS=500;X-TITLE=1119 SE Market St.:geo:-122.6543674,45.5109162
END:VEVENT
BEGIN:VEVENT
DTSTART;TZID=America/Los_Angeles:20240909T100000
DTEND;TZID=America/Los_Angeles:20240909T120000
DTSTAMP:20260423T032555
CREATED:20260418T212334Z
LAST-MODIFIED:20260418T212334Z
UID:10008009-1725876000-1725883200@maitripa.org
SUMMARY:TIB201 Classical Tibetan Language Intermediate I
DESCRIPTION:10:00 am-12:00 p\nTIB201 Classical Tibetan Language Intermediate I \nclick here for details on this and all Fall courses
URL:https://maitripa.org/events/tib201-classical-tibetan-language-intermediate-i-301/
LOCATION:Maitripa College\, 1119 SE Market St.\, Portland\, OR\, 97214\, United States
CATEGORIES:Academic Calendar & Courses
GEO:45.5109162;-122.6543674
X-APPLE-STRUCTURED-LOCATION;VALUE=URI;X-ADDRESS=Maitripa College 1119 SE Market St. Portland OR 97214 United States;X-APPLE-RADIUS=500;X-TITLE=1119 SE Market St.:geo:-122.6543674,45.5109162
END:VEVENT
BEGIN:VEVENT
DTSTART;TZID=America/Los_Angeles:20240909T100000
DTEND;TZID=America/Los_Angeles:20240909T120000
DTSTAMP:20260423T032555
CREATED:20260419T092323Z
LAST-MODIFIED:20260419T092323Z
UID:10008010-1725876000-1725883200@maitripa.org
SUMMARY:TIB201 Classical Tibetan Language Intermediate I
DESCRIPTION:10:00 am-12:00 p\nTIB201 Classical Tibetan Language Intermediate I \nclick here for details on this and all Fall courses
URL:https://maitripa.org/events/tib201-classical-tibetan-language-intermediate-i-302/
LOCATION:Maitripa College\, 1119 SE Market St.\, Portland\, OR\, 97214\, United States
CATEGORIES:Academic Calendar & Courses
GEO:45.5109162;-122.6543674
X-APPLE-STRUCTURED-LOCATION;VALUE=URI;X-ADDRESS=Maitripa College 1119 SE Market St. Portland OR 97214 United States;X-APPLE-RADIUS=500;X-TITLE=1119 SE Market St.:geo:-122.6543674,45.5109162
END:VEVENT
BEGIN:VEVENT
DTSTART;TZID=America/Los_Angeles:20240909T100000
DTEND;TZID=America/Los_Angeles:20240909T120000
DTSTAMP:20260423T032555
CREATED:20260419T212321Z
LAST-MODIFIED:20260419T212321Z
UID:10008011-1725876000-1725883200@maitripa.org
SUMMARY:TIB201 Classical Tibetan Language Intermediate I
DESCRIPTION:10:00 am-12:00 p\nTIB201 Classical Tibetan Language Intermediate I \nclick here for details on this and all Fall courses
URL:https://maitripa.org/events/tib201-classical-tibetan-language-intermediate-i-303/
LOCATION:Maitripa College\, 1119 SE Market St.\, Portland\, OR\, 97214\, United States
CATEGORIES:Academic Calendar & Courses
GEO:45.5109162;-122.6543674
X-APPLE-STRUCTURED-LOCATION;VALUE=URI;X-ADDRESS=Maitripa College 1119 SE Market St. Portland OR 97214 United States;X-APPLE-RADIUS=500;X-TITLE=1119 SE Market St.:geo:-122.6543674,45.5109162
END:VEVENT
BEGIN:VEVENT
DTSTART;TZID=America/Los_Angeles:20240909T100000
DTEND;TZID=America/Los_Angeles:20240909T120000
DTSTAMP:20260423T032555
CREATED:20260420T092317Z
LAST-MODIFIED:20260420T092317Z
UID:10008012-1725876000-1725883200@maitripa.org
SUMMARY:TIB201 Classical Tibetan Language Intermediate I
DESCRIPTION:10:00 am-12:00 p\nTIB201 Classical Tibetan Language Intermediate I \nclick here for details on this and all Fall courses
URL:https://maitripa.org/events/tib201-classical-tibetan-language-intermediate-i-304/
LOCATION:Maitripa College\, 1119 SE Market St.\, Portland\, OR\, 97214\, United States
CATEGORIES:Academic Calendar & Courses
GEO:45.5109162;-122.6543674
X-APPLE-STRUCTURED-LOCATION;VALUE=URI;X-ADDRESS=Maitripa College 1119 SE Market St. Portland OR 97214 United States;X-APPLE-RADIUS=500;X-TITLE=1119 SE Market St.:geo:-122.6543674,45.5109162
END:VEVENT
BEGIN:VEVENT
DTSTART;TZID=America/Los_Angeles:20240909T100000
DTEND;TZID=America/Los_Angeles:20240909T120000
DTSTAMP:20260423T032555
CREATED:20260420T212320Z
LAST-MODIFIED:20260420T212320Z
UID:10008013-1725876000-1725883200@maitripa.org
SUMMARY:TIB201 Classical Tibetan Language Intermediate I
DESCRIPTION:10:00 am-12:00 p\nTIB201 Classical Tibetan Language Intermediate I \nclick here for details on this and all Fall courses
URL:https://maitripa.org/events/tib201-classical-tibetan-language-intermediate-i-305/
LOCATION:Maitripa College\, 1119 SE Market St.\, Portland\, OR\, 97214\, United States
CATEGORIES:Academic Calendar & Courses
GEO:45.5109162;-122.6543674
X-APPLE-STRUCTURED-LOCATION;VALUE=URI;X-ADDRESS=Maitripa College 1119 SE Market St. Portland OR 97214 United States;X-APPLE-RADIUS=500;X-TITLE=1119 SE Market St.:geo:-122.6543674,45.5109162
END:VEVENT
BEGIN:VEVENT
DTSTART;TZID=America/Los_Angeles:20240909T100000
DTEND;TZID=America/Los_Angeles:20240909T120000
DTSTAMP:20260423T032555
CREATED:20260421T092320Z
LAST-MODIFIED:20260421T092320Z
UID:10008014-1725876000-1725883200@maitripa.org
SUMMARY:TIB201 Classical Tibetan Language Intermediate I
DESCRIPTION:10:00 am-12:00 p\nTIB201 Classical Tibetan Language Intermediate I \nclick here for details on this and all Fall courses
URL:https://maitripa.org/events/tib201-classical-tibetan-language-intermediate-i-306/
LOCATION:Maitripa College\, 1119 SE Market St.\, Portland\, OR\, 97214\, United States
CATEGORIES:Academic Calendar & Courses
GEO:45.5109162;-122.6543674
X-APPLE-STRUCTURED-LOCATION;VALUE=URI;X-ADDRESS=Maitripa College 1119 SE Market St. Portland OR 97214 United States;X-APPLE-RADIUS=500;X-TITLE=1119 SE Market St.:geo:-122.6543674,45.5109162
END:VEVENT
BEGIN:VEVENT
DTSTART;TZID=America/Los_Angeles:20240909T100000
DTEND;TZID=America/Los_Angeles:20240909T120000
DTSTAMP:20260423T032555
CREATED:20260421T212334Z
LAST-MODIFIED:20260421T212334Z
UID:10008015-1725876000-1725883200@maitripa.org
SUMMARY:TIB201 Classical Tibetan Language Intermediate I
DESCRIPTION:10:00 am-12:00 p\nTIB201 Classical Tibetan Language Intermediate I \nclick here for details on this and all Fall courses
URL:https://maitripa.org/events/tib201-classical-tibetan-language-intermediate-i-307/
LOCATION:Maitripa College\, 1119 SE Market St.\, Portland\, OR\, 97214\, United States
CATEGORIES:Academic Calendar & Courses
GEO:45.5109162;-122.6543674
X-APPLE-STRUCTURED-LOCATION;VALUE=URI;X-ADDRESS=Maitripa College 1119 SE Market St. Portland OR 97214 United States;X-APPLE-RADIUS=500;X-TITLE=1119 SE Market St.:geo:-122.6543674,45.5109162
END:VEVENT
BEGIN:VEVENT
DTSTART;TZID=America/Los_Angeles:20240909T100000
DTEND;TZID=America/Los_Angeles:20240909T120000
DTSTAMP:20260423T032555
CREATED:20260422T092326Z
LAST-MODIFIED:20260422T092326Z
UID:10008016-1725876000-1725883200@maitripa.org
SUMMARY:TIB201 Classical Tibetan Language Intermediate I
DESCRIPTION:10:00 am-12:00 p\nTIB201 Classical Tibetan Language Intermediate I \nclick here for details on this and all Fall courses
URL:https://maitripa.org/events/tib201-classical-tibetan-language-intermediate-i-308/
LOCATION:Maitripa College\, 1119 SE Market St.\, Portland\, OR\, 97214\, United States
CATEGORIES:Academic Calendar & Courses
GEO:45.5109162;-122.6543674
X-APPLE-STRUCTURED-LOCATION;VALUE=URI;X-ADDRESS=Maitripa College 1119 SE Market St. Portland OR 97214 United States;X-APPLE-RADIUS=500;X-TITLE=1119 SE Market St.:geo:-122.6543674,45.5109162
END:VEVENT
BEGIN:VEVENT
DTSTART;TZID=America/Los_Angeles:20240909T100000
DTEND;TZID=America/Los_Angeles:20240909T120000
DTSTAMP:20260423T032555
CREATED:20260422T212326Z
LAST-MODIFIED:20260422T212326Z
UID:10008017-1725876000-1725883200@maitripa.org
SUMMARY:TIB201 Classical Tibetan Language Intermediate I
DESCRIPTION:10:00 am-12:00 p\nTIB201 Classical Tibetan Language Intermediate I \nclick here for details on this and all Fall courses
URL:https://maitripa.org/events/tib201-classical-tibetan-language-intermediate-i-309/
LOCATION:Maitripa College\, 1119 SE Market St.\, Portland\, OR\, 97214\, United States
CATEGORIES:Academic Calendar & Courses
GEO:45.5109162;-122.6543674
X-APPLE-STRUCTURED-LOCATION;VALUE=URI;X-ADDRESS=Maitripa College 1119 SE Market St. Portland OR 97214 United States;X-APPLE-RADIUS=500;X-TITLE=1119 SE Market St.:geo:-122.6543674,45.5109162
END:VEVENT
BEGIN:VEVENT
DTSTART;TZID=America/Los_Angeles:20240909T100000
DTEND;TZID=America/Los_Angeles:20240909T120000
DTSTAMP:20260423T032555
CREATED:20260423T092318Z
LAST-MODIFIED:20260423T092318Z
UID:10008018-1725876000-1725883200@maitripa.org
SUMMARY:TIB201 Classical Tibetan Language Intermediate I
DESCRIPTION:10:00 am-12:00 p\nTIB201 Classical Tibetan Language Intermediate I \nclick here for details on this and all Fall courses
URL:https://maitripa.org/events/tib201-classical-tibetan-language-intermediate-i-310/
LOCATION:Maitripa College\, 1119 SE Market St.\, Portland\, OR\, 97214\, United States
CATEGORIES:Academic Calendar & Courses
GEO:45.5109162;-122.6543674
X-APPLE-STRUCTURED-LOCATION;VALUE=URI;X-ADDRESS=Maitripa College 1119 SE Market St. Portland OR 97214 United States;X-APPLE-RADIUS=500;X-TITLE=1119 SE Market St.:geo:-122.6543674,45.5109162
END:VEVENT
END:VCALENDAR