BEGIN:VCALENDAR
VERSION:2.0
PRODID:-//Maitripa College - ECPv6.15.15//NONSGML v1.0//EN
CALSCALE:GREGORIAN
METHOD:PUBLISH
X-WR-CALNAME:Maitripa College
X-ORIGINAL-URL:https://maitripa.org
X-WR-CALDESC:Events for Maitripa College
REFRESH-INTERVAL;VALUE=DURATION:PT1H
X-Robots-Tag:noindex
X-PUBLISHED-TTL:PT1H
BEGIN:VTIMEZONE
TZID:UTC
BEGIN:STANDARD
TZOFFSETFROM:+0000
TZOFFSETTO:+0000
TZNAME:UTC
DTSTART:20240101T000000
END:STANDARD
END:VTIMEZONE
BEGIN:VTIMEZONE
TZID:America/Los_Angeles
BEGIN:DAYLIGHT
TZOFFSETFROM:-0800
TZOFFSETTO:-0700
TZNAME:PDT
DTSTART:20240310T100000
END:DAYLIGHT
BEGIN:STANDARD
TZOFFSETFROM:-0700
TZOFFSETTO:-0800
TZNAME:PST
DTSTART:20241103T090000
END:STANDARD
BEGIN:DAYLIGHT
TZOFFSETFROM:-0800
TZOFFSETTO:-0700
TZNAME:PDT
DTSTART:20250309T100000
END:DAYLIGHT
BEGIN:STANDARD
TZOFFSETFROM:-0700
TZOFFSETTO:-0800
TZNAME:PST
DTSTART:20251102T090000
END:STANDARD
BEGIN:DAYLIGHT
TZOFFSETFROM:-0800
TZOFFSETTO:-0700
TZNAME:PDT
DTSTART:20260308T100000
END:DAYLIGHT
BEGIN:STANDARD
TZOFFSETFROM:-0700
TZOFFSETTO:-0800
TZNAME:PST
DTSTART:20261101T090000
END:STANDARD
END:VTIMEZONE
BEGIN:VEVENT
DTSTART;TZID=UTC:20250706T100000
DTEND;TZID=UTC:20250706T110000
DTSTAMP:20260423T074951
CREATED:20250505T222952Z
LAST-MODIFIED:20250704T030552Z
UID:10007371-1751796000-1751799600@maitripa.org
SUMMARY:His Holiness the Dalai Lama’s 90th Birthday Celebration
DESCRIPTION:Celebration of His Holiness the Dalai Lama’s 90th Birthday\nSunday\, July 6th\, 10am \nYou are invited to celebrate His Holiness the Dalai Lama’s 90th birthday with us on Sunday! Join us to practice ‘The Inseparability of the Spiritual Master and Avalokiteshvara: A Source of All Powerful Attainments’ with Venerable Tenzin Drolma and the Maitripa College community. \nDiscovering Buddhism: Presenting the Path will continue after puja. Snacks & birthday cake available for all following the teachings! \nNo registration necessary for in-person attendance; click below to join online by Zoom. \n  \nJoin the celebration online!
URL:https://maitripa.org/events/his-holiness-the-dalai-lama-birthday/
LOCATION:Maitripa College\, 1119 SE Market St.\, Portland\, OR\, 97214\, United States
CATEGORIES:2025 Public Events,Holidays
ATTACH;FMTTYPE=image/jpeg:https://maitripa.org/wp-content/uploads/2019/04/HHDL_birthday-e1652131730756.jpg
GEO:45.5109162;-122.6543674
X-APPLE-STRUCTURED-LOCATION;VALUE=URI;X-ADDRESS=Maitripa College 1119 SE Market St. Portland OR 97214 United States;X-APPLE-RADIUS=500;X-TITLE=1119 SE Market St.:geo:-122.6543674,45.5109162
END:VEVENT
BEGIN:VEVENT
DTSTART;TZID=America/Los_Angeles:20250728T170000
DTEND;TZID=America/Los_Angeles:20250728T183000
DTSTAMP:20260423T074951
CREATED:20250505T224053Z
LAST-MODIFIED:20250724T153224Z
UID:10007372-1753722000-1753727400@maitripa.org
SUMMARY:Chokhor Duchen
DESCRIPTION:Chokhor Duchen: Monday July 28 5pm \nYou are warmly invited to join us in celebration of Chokhor Duchen\, one of the four great Buddhist festival days of the year. This sacred day commemorates the Buddha’s first turning of the Wheel of Dharma\, when he began to share the profound teachings that continue to guide and inspire us today. \nOn this auspicious occasion\, the merit of all spiritual activities is multiplied many times over. We will gather in practice\, reflection\, and community\, honoring the Buddha’s teachings and their immeasurable benefit to all beings. All are welcome to attend. \nIt is not necessary to register to attend in person; follow the link below to attend online through Zoom. \nClick here for Zoom link to attend online
URL:https://maitripa.org/events/chokhor-duchen/
LOCATION:Maitripa College\, 1119 SE Market St.\, Portland\, OR\, 97214\, United States
CATEGORIES:2025 Public Events,Holidays
ATTACH;FMTTYPE=image/jpeg:https://maitripa.org/wp-content/uploads/2020/01/f_buddha1.jpg
GEO:45.5109162;-122.6543674
X-APPLE-STRUCTURED-LOCATION;VALUE=URI;X-ADDRESS=Maitripa College 1119 SE Market St. Portland OR 97214 United States;X-APPLE-RADIUS=500;X-TITLE=1119 SE Market St.:geo:-122.6543674,45.5109162
END:VEVENT
END:VCALENDAR