BEGIN:VCALENDAR
VERSION:2.0
PRODID:-//Maitripa College - ECPv6.15.15//NONSGML v1.0//EN
CALSCALE:GREGORIAN
METHOD:PUBLISH
X-WR-CALNAME:Maitripa College
X-ORIGINAL-URL:https://maitripa.org
X-WR-CALDESC:Events for Maitripa College
REFRESH-INTERVAL;VALUE=DURATION:PT1H
X-Robots-Tag:noindex
X-PUBLISHED-TTL:PT1H
BEGIN:VTIMEZONE
TZID:America/Los_Angeles
BEGIN:DAYLIGHT
TZOFFSETFROM:-0800
TZOFFSETTO:-0700
TZNAME:PDT
DTSTART:20230312T100000
END:DAYLIGHT
BEGIN:STANDARD
TZOFFSETFROM:-0700
TZOFFSETTO:-0800
TZNAME:PST
DTSTART:20231105T090000
END:STANDARD
BEGIN:DAYLIGHT
TZOFFSETFROM:-0800
TZOFFSETTO:-0700
TZNAME:PDT
DTSTART:20240310T100000
END:DAYLIGHT
BEGIN:STANDARD
TZOFFSETFROM:-0700
TZOFFSETTO:-0800
TZNAME:PST
DTSTART:20241103T090000
END:STANDARD
BEGIN:DAYLIGHT
TZOFFSETFROM:-0800
TZOFFSETTO:-0700
TZNAME:PDT
DTSTART:20250309T100000
END:DAYLIGHT
BEGIN:STANDARD
TZOFFSETFROM:-0700
TZOFFSETTO:-0800
TZNAME:PST
DTSTART:20251102T090000
END:STANDARD
END:VTIMEZONE
BEGIN:VEVENT
DTSTART;TZID=America/Los_Angeles:20241225T110000
DTEND;TZID=America/Los_Angeles:20241225T123000
DTSTAMP:20260422T213256
CREATED:20240901T234714Z
LAST-MODIFIED:20241217T220641Z
UID:10007257-1735124400-1735129800@maitripa.org
SUMMARY:Guru Puja: Lama Tsong Khapa Day 
DESCRIPTION:11:00 am in the Maitripa College Jokhang Meditation Hall \nJoin us in celebration of Ganden Ngamchoe: Lama Tsong Khapa Day.  No registration required to join in person. \nPlease click here for advice and more about this celebration of the anniversary of Lama Tsongkhapa’s parinirvana. \nJoin online through zoom\nGenerosity Policy for Community Programming\nWe strive to operate our community programs at Maitripa College within the model of a gift economy\, grounded in an understanding of interdependence\, and sensitive to the dynamics of connection. In traditional Buddhist teachings as well as in indigenous cultures\, deep relationship is established through giving. In this spirit\, we invite you to connect to Maitripa College by giving however you are able\, in order to establish the reciprocity that deepens and strengthens relationship.  Click below for donation options. May your generosity ripen in abundance for yourself and all beings everywhere. \nSupport Maitripa College Community Programs and Special Teacher Visits
URL:https://maitripa.org/events/lama-tsong-khapa-day/
LOCATION:Maitripa College\, 1119 SE Market St.\, Portland\, OR\, 97214\, United States
CATEGORIES:2024 Public Events,Holidays
ATTACH;FMTTYPE=image/jpeg:https://maitripa.org/wp-content/uploads/2017/12/750_lamatsongkapa.jpg
GEO:45.5109162;-122.6543674
X-APPLE-STRUCTURED-LOCATION;VALUE=URI;X-ADDRESS=Maitripa College 1119 SE Market St. Portland OR 97214 United States;X-APPLE-RADIUS=500;X-TITLE=1119 SE Market St.:geo:-122.6543674,45.5109162
END:VEVENT
END:VCALENDAR