BEGIN:VCALENDAR
VERSION:2.0
PRODID:-//Maitripa College - ECPv6.15.15//NONSGML v1.0//EN
CALSCALE:GREGORIAN
METHOD:PUBLISH
X-ORIGINAL-URL:https://maitripa.org
X-WR-CALDESC:Events for Maitripa College
REFRESH-INTERVAL;VALUE=DURATION:PT1H
X-Robots-Tag:noindex
X-PUBLISHED-TTL:PT1H
BEGIN:VTIMEZONE
TZID:America/Los_Angeles
BEGIN:DAYLIGHT
TZOFFSETFROM:-0800
TZOFFSETTO:-0700
TZNAME:PDT
DTSTART:20240310T100000
END:DAYLIGHT
BEGIN:STANDARD
TZOFFSETFROM:-0700
TZOFFSETTO:-0800
TZNAME:PST
DTSTART:20241103T090000
END:STANDARD
BEGIN:DAYLIGHT
TZOFFSETFROM:-0800
TZOFFSETTO:-0700
TZNAME:PDT
DTSTART:20250309T100000
END:DAYLIGHT
BEGIN:STANDARD
TZOFFSETFROM:-0700
TZOFFSETTO:-0800
TZNAME:PST
DTSTART:20251102T090000
END:STANDARD
BEGIN:DAYLIGHT
TZOFFSETFROM:-0800
TZOFFSETTO:-0700
TZNAME:PDT
DTSTART:20260308T100000
END:DAYLIGHT
BEGIN:STANDARD
TZOFFSETFROM:-0700
TZOFFSETTO:-0800
TZNAME:PST
DTSTART:20261101T090000
END:STANDARD
END:VTIMEZONE
BEGIN:VEVENT
DTSTART;TZID=America/Los_Angeles:20250131T100000
DTEND;TZID=America/Los_Angeles:20250202T120000
DTSTAMP:20260422T062710
CREATED:20250128T015850Z
LAST-MODIFIED:20250129T185045Z
UID:10007312-1738317600-1738497600@maitripa.org
SUMMARY:The Gyume Tantric College Monks: Open Prayer Sessions
DESCRIPTION:Special Announcement:  \nIn addition to the special healing services (detailed here)\, on Friday\, Saturday\, and Sunday mornings\, the monks will be doing Yamantaka practice from 10am-noon in the Maitripa College Jokhang. All are welcome to attend\, online or in person. \nLink to register by Zoom: \nhttps://maitripa-org.zoom.us/j/82715283445?pwd=ycFabhPvXVx0pyN7zpNraX1WJvOcSX.1 \nOr\, in person at Maitripa College\, beginning at 10 am. 1632 SE 11th Avenue\, Portland\, OR 97214.
URL:https://maitripa.org/events/the-gyume-tantric-college-monks-prayers/
LOCATION:Maitripa College\, 1119 SE Market St.\, Portland\, OR\, 97214\, United States
CATEGORIES:2024 Public Events,2025 Public Events
ATTACH;FMTTYPE=image/jpeg:https://maitripa.org/wp-content/uploads/2024/09/f_bell-and-damaru.jpg
GEO:45.5109162;-122.6543674
X-APPLE-STRUCTURED-LOCATION;VALUE=URI;X-ADDRESS=Maitripa College 1119 SE Market St. Portland OR 97214 United States;X-APPLE-RADIUS=500;X-TITLE=1119 SE Market St.:geo:-122.6543674,45.5109162
END:VEVENT
BEGIN:VEVENT
DTSTART;VALUE=DATE:20250131
DTEND;VALUE=DATE:20250203
DTSTAMP:20260422T062710
CREATED:20241113T030856Z
LAST-MODIFIED:20250202T013734Z
UID:10007285-1738332000-1738512000@maitripa.org
SUMMARY:The Gyume Tantric College Monks: Morning Practice and Afternoon Healing Session for Mental and Physical Health
DESCRIPTION:Special Announcement:  In addition to the special healing services detailed below\, on Sunday morning\, the monks will be doing Yamantaka practice and Guhyasamaja recitation from 10am-noon in the Maitripa College Jokhang. \nAll are welcome to attend\, online (see link below) or in person at Maitripa College\, beginning at 10 am. 1632 SE 11th Avenue\, Portland\, OR 97214. \n\nJOIN THE MORNING SESSION BY ZOOM (LINK HERE)We invite you to participate in a rare and transformative event – healing sessions with renowned Tibetan Buddhist tantric masters from Gyume Tantric College. \nThese identical sessions are designed to address mental and physical challenges specific to the unique conditions of our time and place. Drawing on ancient wisdom and tantric practices\, the masters will offer profound methods for restoring balance\, cultivating inner peace\, and promoting holistic well-being. This is a unique chance to engage in a deeply spiritual and healing experience guided by experts in Tibetan Buddhist ritual and tradition. \nSunday\, Feb. 2; 2–4 pm each day IN PERSON ONLY \nSuggested Donation: $108 to the monks per guest per session + $21 to Maitripa College per guest per session payable AT THE DOOR ONLY by cash\, card\, or check. Spaces are limited for this in-person only event. Registration required (each session/day is identical). \nregister for Sunday Healing session (afternoon\, in-person only)
URL:https://maitripa.org/events/the-gyume-tantric-college-monks/
LOCATION:Maitripa College\, 1119 SE Market St.\, Portland\, OR\, 97214\, United States
CATEGORIES:2024 Public Events,2025 Public Events
ATTACH;FMTTYPE=image/jpeg:https://maitripa.org/wp-content/uploads/2024/11/f_tantra_monks.jpg
GEO:45.5109162;-122.6543674
X-APPLE-STRUCTURED-LOCATION;VALUE=URI;X-ADDRESS=Maitripa College 1119 SE Market St. Portland OR 97214 United States;X-APPLE-RADIUS=500;X-TITLE=1119 SE Market St.:geo:-122.6543674,45.5109162
END:VEVENT
BEGIN:VEVENT
DTSTART;TZID=America/Los_Angeles:20250226T170000
DTEND;TZID=America/Los_Angeles:20250226T183000
DTSTAMP:20260422T062710
CREATED:20250129T174720Z
LAST-MODIFIED:20250226T041708Z
UID:10007314-1740589200-1740594600@maitripa.org
SUMMARY:Buddhist Scholar-Practitioner Speaker Series: The Tantric Songs of Atiśa with Patrick Lambelet\, PhD
DESCRIPTION:Join us for the first talk launching a new Buddhist Scholar-Practitioner Speaker Series! We are excited to welcome Patrick Lambelet\, PhD to discuss Atiśa’s tantric “songs” and works that newly reveal his complex role in the history of Tibetan Buddhism. Atiśa is famously  known as a major figure in the transmission of Buddhism to Tibet\, seeding the unique development of the bodhisattva path there. However\, his numerous and lesser-known writings on Vajrayāna and Mahāmudrā show his close connection to the esoteric writings of mahāsiddhas\, offer commentary on controversial traditions\, and espouse unexpected views of emptiness. Join us for the first talk in this new series\, to discuss Atiśa’s tantric “songs” and works that newly reveal his complex role in the history of Tibetan Buddhism. \nOpen to all; registration required for both in-person and online attendance:\n \nPlease register here for In-person or online Zoom attendance and select the donation level you can offer in support of our ongoing programs. Zoom registrants will receive the link via email by the day before the event.More About Atiśa\nAtiśa Dīpaṃkara Śrījñāna (982–1054) was one of the main figures in the later dissemination of Buddhism in Tibet (tenpa chidar)\, as well as a major influence on the Geluk school\, nearly four centuries later\, who saw him as a “reformer” of Buddhism. Atiśa is primarily known for works such as the Lamp for the Path to Enlightenment (Bodhipathapradīpa)\, the prototype for later works on the stages of the path to enlightenment (lam rim)\, as well as his many writings on other topics related to the bodhisattva path. Less known\, however\, are Atiśa’s numerous writings on Vajrayāna (the tantric vehicle) and Mahāmudrā (the great seal)\, in which he showed his affinity for\, and close connection to\, the esoteric writings of mahāsiddhas such as Saraha. In such works\, Atiśa commented on tantric traditions that were widely controversial in Tibet\, while also espousing views of emptiness that contrast with later (especially Geluk) interpretations of Madhyamaka. \n\nAbout the Maitripa College Buddhist Scholar-Practitioner Speaker Series\, Spring 2025 \nMaitripa College presents a series of talks by esteemed Buddhist scholar-practitioners who will share their decades of scholarship and meditation for today’s audiences.  This spring\, we explore lineages of philosophers and meditators who have developed methods for investigating the nature of mind\, with a particular focus on mahamudra. We are grateful to the accomplished Buddhist Studies professors and friends of Maitripa College who will present talks in person and online\, and we invite you to please join us for learning\, insight\, and dialogue! \nTalks in the Series:\nFebruary 26: Buddhist Scholar-Practitioner Speaker Series: The Tantric Songs of Atiśa with Patrick Lambelet\, PhD\nApril 26: Saraha Has Stretched His Bow: The Life and Teachings of a Tantric Poet with Roger Jackson\, PhD\nMay 10: Enlightened in One Lifetime; Ganden Mahamudra Oral Tradition Masters with Dr. Jan Willis\, PhD
URL:https://maitripa.org/events/the-tantric-songs-of-atisa-with-patrick-lambelet-phd-2/
LOCATION:Maitripa College\, 1119 SE Market St.\, Portland\, OR\, 97214\, United States
CATEGORIES:2024 Public Events,2025 Public Events
ATTACH;FMTTYPE=image/jpeg:https://maitripa.org/wp-content/uploads/2025/01/f_atisa.jpg
GEO:45.5109162;-122.6543674
X-APPLE-STRUCTURED-LOCATION;VALUE=URI;X-ADDRESS=Maitripa College 1119 SE Market St. Portland OR 97214 United States;X-APPLE-RADIUS=500;X-TITLE=1119 SE Market St.:geo:-122.6543674,45.5109162
END:VEVENT
END:VCALENDAR