BEGIN:VCALENDAR
VERSION:2.0
PRODID:-//Maitripa College - ECPv6.15.15//NONSGML v1.0//EN
CALSCALE:GREGORIAN
METHOD:PUBLISH
X-ORIGINAL-URL:https://maitripa.org
X-WR-CALDESC:Events for Maitripa College
REFRESH-INTERVAL;VALUE=DURATION:PT1H
X-Robots-Tag:noindex
X-PUBLISHED-TTL:PT1H
BEGIN:VTIMEZONE
TZID:America/Los_Angeles
BEGIN:DAYLIGHT
TZOFFSETFROM:-0800
TZOFFSETTO:-0700
TZNAME:PDT
DTSTART:20230312T100000
END:DAYLIGHT
BEGIN:STANDARD
TZOFFSETFROM:-0700
TZOFFSETTO:-0800
TZNAME:PST
DTSTART:20231105T090000
END:STANDARD
BEGIN:DAYLIGHT
TZOFFSETFROM:-0800
TZOFFSETTO:-0700
TZNAME:PDT
DTSTART:20240310T100000
END:DAYLIGHT
BEGIN:STANDARD
TZOFFSETFROM:-0700
TZOFFSETTO:-0800
TZNAME:PST
DTSTART:20241103T090000
END:STANDARD
BEGIN:DAYLIGHT
TZOFFSETFROM:-0800
TZOFFSETTO:-0700
TZNAME:PDT
DTSTART:20250309T100000
END:DAYLIGHT
BEGIN:STANDARD
TZOFFSETFROM:-0700
TZOFFSETTO:-0800
TZNAME:PST
DTSTART:20251102T090000
END:STANDARD
END:VTIMEZONE
BEGIN:VEVENT
DTSTART;TZID=America/Los_Angeles:20240915T110000
DTEND;TZID=America/Los_Angeles:20240915T123000
DTSTAMP:20260421T214608
CREATED:20240910T015610Z
LAST-MODIFIED:20240910T015610Z
UID:10007263-1726398000-1726403400@maitripa.org
SUMMARY:Community Medicine Buddha Puja led by Maitripa College Alumnus Michael Jolliffe
DESCRIPTION:Please join the Maitripa College community in the Jokhang Meditation Hall for the healing practice of Medicine Buddha dedicated for all who are ill\, for healing in the world led by Maitripa College Alumnus Michael Jolliffe \nIn-person registration is no longer necessary; see button below for Zoom link. \nSunday Morning Community Practice\n11am-12:30pm \nThe practice of Medicine Buddha focuses healing of all types of sicknesses and suffering. Prayers may be dedicated specifically for the healing of loved ones and all sentient beings to anyone who needs protection\, support\, strength\, and love. \nClick here to make requests for prayers: https://maitripa.org/prayer-list/). \n\n\n\nRegister to attend by zoomGenerosity Policy for Community Programming\nWe strive to operate our community programs at Maitripa College within the model of a gift economy\, grounded in an understanding of interdependence\, and sensitive to the dynamics of connection. In traditional Buddhist teachings as well as in indigenous cultures\, deep relationship is established through giving. In this spirit\, we invite you to connect to Maitripa College by giving however you are able\, in order to establish the reciprocity that deepens and strengthens relationship.  Click below for donation options. May your generosity ripen in abundance for yourself and all beings everywhere. \nSupport Maitripa College Community Programs and Special Teacher Visits
URL:https://maitripa.org/events/community-medicine-buddha-puja-led-by-maitripa-college-alumnus-michael-jolliffe/
LOCATION:Maitripa College\, 1119 SE Market St.\, Portland\, OR\, 97214\, United States
CATEGORIES:2024 Public Events
ATTACH;FMTTYPE=image/jpeg:https://maitripa.org/wp-content/uploads/2022/10/f_medicine-buddha.jpg
GEO:45.5109162;-122.6543674
X-APPLE-STRUCTURED-LOCATION;VALUE=URI;X-ADDRESS=Maitripa College 1119 SE Market St. Portland OR 97214 United States;X-APPLE-RADIUS=500;X-TITLE=1119 SE Market St.:geo:-122.6543674,45.5109162
END:VEVENT
BEGIN:VEVENT
DTSTART;TZID=America/Los_Angeles:20240927T153000
DTEND;TZID=America/Los_Angeles:20240927T170000
DTSTAMP:20260421T214608
CREATED:20240901T211531Z
LAST-MODIFIED:20240901T211733Z
UID:10007253-1727451000-1727456400@maitripa.org
SUMMARY:Guru Puja (Lama Chöpa) on the Tibetan 25th Day
DESCRIPTION:Please join us at Maitripa College as we bring the Tibetan Buddhist tradition of practicing Guru Puja (Lama Chöpa) into our modern world and experience with our community.  \nTraditionally\, the Guru Puja is celebrated on the 10th and 25th days of the Tibetan calendar.  This puja lasts around 2 hours and consists of the recitation of a sadhana\, visualizations\, and prayers\, including taking refuge and generating bodhicitta. Mantras\, praises and requests are also usually recited.  You may participate at whatever level you feel comfortable. \nIt is not necessary to register to attend in person; please click below to join us online by Zoom. \n\n\n\n\n\n\n\n\n\n\n>Click here for resources\, text\, and information on Guru Puja instructions and retreats at Maitripa College \n\n\n\n\n\n\nRegister to attend by zoomGenerosity Policy for Community Programming\nWe strive to operate our community programs at Maitripa College within the model of a gift economy\, grounded in an understanding of interdependence\, and sensitive to the dynamics of connection. In traditional Buddhist teachings as well as in indigenous cultures\, deep relationship is established through giving. In this spirit\, we invite you to connect to Maitripa College by giving however you are able\, in order to establish the reciprocity that deepens and strengthens relationship.  Click below for donation options. May your generosity ripen in abundance for yourself and all beings everywhere. \nSupport Maitripa College Community Programs and Special Teacher Visits
URL:https://maitripa.org/events/guru-puja-lama-chopa-on-the-tibetan-25th-day-3/
LOCATION:Maitripa College\, 1119 SE Market St.\, Portland\, OR\, 97214\, United States
CATEGORIES:2024 Public Events
ATTACH;FMTTYPE=image/jpeg:https://maitripa.org/wp-content/uploads/2019/08/f_tsongkhapa3.jpg
GEO:45.5109162;-122.6543674
X-APPLE-STRUCTURED-LOCATION;VALUE=URI;X-ADDRESS=Maitripa College 1119 SE Market St. Portland OR 97214 United States;X-APPLE-RADIUS=500;X-TITLE=1119 SE Market St.:geo:-122.6543674,45.5109162
END:VEVENT
END:VCALENDAR